BEGIN:VCALENDAR
VERSION:2.0
PRODID:-//City Takers - ECPv6.15.14//NONSGML v1.0//EN
CALSCALE:GREGORIAN
METHOD:PUBLISH
X-WR-CALNAME:City Takers
X-ORIGINAL-URL:https://citytakers.solsmartech.com
X-WR-CALDESC:Events for City Takers
REFRESH-INTERVAL;VALUE=DURATION:PT1H
X-Robots-Tag:noindex
X-PUBLISHED-TTL:PT1H
BEGIN:VTIMEZONE
TZID:UTC
BEGIN:STANDARD
TZOFFSETFROM:+0000
TZOFFSETTO:+0000
TZNAME:UTC
DTSTART:20240101T000000
END:STANDARD
END:VTIMEZONE
BEGIN:VEVENT
DTSTART;TZID=UTC:20260129T183000
DTEND;TZID=UTC:20260129T193000
DTSTAMP:20260421T121013
CREATED:20260126T201451Z
LAST-MODIFIED:20260126T204326Z
UID:3436-1769711400-1769715000@citytakers.solsmartech.com
SUMMARY:Discipleship Class for Adults
DESCRIPTION:Every Thursday at 6:30p. Designed to deepen individuals’ understanding of their faith\, foster spiritual growth\, and equip them to live out their beliefs in practical ways.
URL:https://citytakers.solsmartech.com/event/discipleship-class-for-adults/
CATEGORIES:programs
ATTACH;FMTTYPE=image/webp:https://citytakers.solsmartech.com/wp-content/uploads/2026/01/image-asset1.webp
END:VEVENT
BEGIN:VEVENT
DTSTART;TZID=UTC:20260126T183000
DTEND;TZID=UTC:20260126T190000
DTSTAMP:20260421T121013
CREATED:20260123T004257Z
LAST-MODIFIED:20260126T201134Z
UID:3386-1769452200-1769454000@citytakers.solsmartech.com
SUMMARY:WARM ATLANTA
DESCRIPTION:Annual Clothing Drive & Street Outreach Event
URL:https://citytakers.solsmartech.com/event/warm-atlanta-2/
CATEGORIES:missions
ATTACH;FMTTYPE=image/png:https://citytakers.solsmartech.com/wp-content/uploads/2026/01/Screenshot-2026-01-23-at-01-39-55-City-Takers-1.png
END:VEVENT
BEGIN:VEVENT
DTSTART;TZID=UTC:20260126T090000
DTEND;TZID=UTC:20260130T150000
DTSTAMP:20260421T121013
CREATED:20260126T201247Z
LAST-MODIFIED:20260126T204557Z
UID:3433-1769418000-1769785200@citytakers.solsmartech.com
SUMMARY:Mission Base Resource Center
DESCRIPTION:Every day Monday-Friday between 9a-3p we distribute food and diapers to supporting the well-being of individuals and families in the community.
URL:https://citytakers.solsmartech.com/event/mission-base-resource-center/
CATEGORIES:programs
ATTACH;FMTTYPE=image/webp:https://citytakers.solsmartech.com/wp-content/uploads/2026/01/image-asset.webp
END:VEVENT
BEGIN:VEVENT
DTSTART;TZID=UTC:20260126T073000
DTEND;TZID=UTC:20260126T170000
DTSTAMP:20260421T121014
CREATED:20260123T000717Z
LAST-MODIFIED:20260126T201148Z
UID:3385-1769412600-1769446800@citytakers.solsmartech.com
SUMMARY:Church On The Streets
DESCRIPTION:OUR FRIENDS ON THE STREETS\n\n\n\n 
URL:https://citytakers.solsmartech.com/event/church-on-the-streets-2/
CATEGORIES:missions
ATTACH;FMTTYPE=image/png:https://citytakers.solsmartech.com/wp-content/uploads/2026/01/Screenshot-2026-01-23-at-00-59-21-City-Takers-1.png
END:VEVENT
BEGIN:VEVENT
DTSTART;TZID=UTC:20260119T100000
DTEND;TZID=UTC:20260119T170000
DTSTAMP:20260421T121014
CREATED:20260123T005028Z
LAST-MODIFIED:20260126T201139Z
UID:3388-1768816800-1768842000@citytakers.solsmartech.com
SUMMARY:MLK Day of Service
DESCRIPTION:
URL:https://citytakers.solsmartech.com/event/mlk-day-of-service-2/
CATEGORIES:missions
ATTACH;FMTTYPE=image/png:https://citytakers.solsmartech.com/wp-content/uploads/2026/01/Screenshot-2026-01-23-at-01-48-19-City-Takers-1.png
END:VEVENT
BEGIN:VEVENT
DTSTART;TZID=UTC:20260110T080000
DTEND;TZID=UTC:20260124T170000
DTSTAMP:20260421T121014
CREATED:20260126T201340Z
LAST-MODIFIED:20260126T204438Z
UID:3434-1768032000-1769274000@citytakers.solsmartech.com
SUMMARY:Love Your Neighbor Saturdays
DESCRIPTION:Every 2nd\, 3rd\, and 4th Saturday. Encourages individuals to come together to perform acts of service\, build relationships\, and create a positive impact within the community.
URL:https://citytakers.solsmartech.com/event/love-your-neighbor-saturdays/
CATEGORIES:programs
ATTACH;FMTTYPE=image/webp:https://citytakers.solsmartech.com/wp-content/uploads/2026/01/272821241_7071432379598459_2939982223624513441_n1.webp
END:VEVENT
BEGIN:VEVENT
DTSTART;TZID=UTC:20260107T190000
DTEND;TZID=UTC:20260107T210000
DTSTAMP:20260421T121014
CREATED:20260126T201419Z
LAST-MODIFIED:20260126T204404Z
UID:3435-1767812400-1767819600@citytakers.solsmartech.com
SUMMARY:(YCT) Young City Takers Remix Youth Night
DESCRIPTION:Every Wednesday from 7p-9p. Characterized by its energetic atmosphere\, fostering personal growth\, and providing a platform for young people to connect\, learn\, and have fun together.
URL:https://citytakers.solsmartech.com/event/yct-young-city-takers-remix-youth-night/
CATEGORIES:programs
ATTACH;FMTTYPE=image/webp:https://citytakers.solsmartech.com/wp-content/uploads/2026/01/image-asset-1.webp
END:VEVENT
BEGIN:VEVENT
DTSTART;TZID=UTC:20250802T100000
DTEND;TZID=UTC:20250802T140000
DTSTAMP:20260421T121014
CREATED:20260123T004743Z
LAST-MODIFIED:20260126T201155Z
UID:3387-1754128800-1754143200@citytakers.solsmartech.com
SUMMARY:Serve Saturday
DESCRIPTION:  \n\nServe Saturday “Bless the Block”
URL:https://citytakers.solsmartech.com/event/serve-saturday-2/
CATEGORIES:missions
ATTACH;FMTTYPE=image/png:https://citytakers.solsmartech.com/wp-content/uploads/2026/01/Screenshot-2026-01-23-at-01-45-00-City-Takers-1.png
END:VEVENT
END:VCALENDAR